BEGIN:VCALENDAR
VERSION:2.0
PRODID:-//GSUPA - ECPv6.14.2//NONSGML v1.0//EN
CALSCALE:GREGORIAN
METHOD:PUBLISH
X-WR-CALNAME:GSUPA
X-ORIGINAL-URL:https://www.gsupa.com
X-WR-CALDESC:Veranstaltungen für GSUPA
REFRESH-INTERVAL;VALUE=DURATION:PT1H
X-Robots-Tag:noindex
X-PUBLISHED-TTL:PT1H
BEGIN:VTIMEZONE
TZID:Europe/Berlin
BEGIN:DAYLIGHT
TZOFFSETFROM:+0100
TZOFFSETTO:+0200
TZNAME:CEST
DTSTART:20240331T010000
END:DAYLIGHT
BEGIN:STANDARD
TZOFFSETFROM:+0200
TZOFFSETTO:+0100
TZNAME:CET
DTSTART:20241027T010000
END:STANDARD
END:VTIMEZONE
BEGIN:VEVENT
DTSTART;VALUE=DATE:20240914
DTEND;VALUE=DATE:20240923
DTSTAMP:20260425T183031
CREATED:20240610T074944Z
LAST-MODIFIED:20240610T075028Z
UID:12983-1726272000-1727049599@www.gsupa.com
SUMMARY:ISA World SUP & Paddleboard Championships 2024
DESCRIPTION:
URL:https://www.gsupa.com/event/isa-world-sup-paddleboard-championships-2024/
LOCATION:Kopenhagen\, Kopenhagen
CATEGORIES:Profirennen
END:VEVENT
END:VCALENDAR