BEGIN:VCALENDAR
VERSION:2.0
PRODID:-//GSUPA - ECPv6.14.2//NONSGML v1.0//EN
CALSCALE:GREGORIAN
METHOD:PUBLISH
X-WR-CALNAME:GSUPA
X-ORIGINAL-URL:https://www.gsupa.com
X-WR-CALDESC:Veranstaltungen für GSUPA
REFRESH-INTERVAL;VALUE=DURATION:PT1H
X-Robots-Tag:noindex
X-PUBLISHED-TTL:PT1H
BEGIN:VTIMEZONE
TZID:Europe/Berlin
BEGIN:DAYLIGHT
TZOFFSETFROM:+0100
TZOFFSETTO:+0200
TZNAME:CEST
DTSTART:20250330T010000
END:DAYLIGHT
BEGIN:STANDARD
TZOFFSETFROM:+0200
TZOFFSETTO:+0100
TZNAME:CET
DTSTART:20251026T010000
END:STANDARD
END:VTIMEZONE
BEGIN:VEVENT
DTSTART;VALUE=DATE:20250801
DTEND;VALUE=DATE:20250804
DTSTAMP:20260425T025522
CREATED:20241209T102758Z
LAST-MODIFIED:20241209T102758Z
UID:13206-1754006400-1754265599@www.gsupa.com
SUMMARY:SUP & Wingfoil Festival Fehmarn
DESCRIPTION:
URL:https://www.gsupa.com/event/sup-wingfoil-festival-fehmarn-2/
LOCATION:Fehmarn
CATEGORIES:Amateurrennen,Funrace,Profirennen
END:VEVENT
END:VCALENDAR