BEGIN:VCALENDAR
VERSION:2.0
PRODID:-//GSUPA - ECPv6.14.2//NONSGML v1.0//EN
CALSCALE:GREGORIAN
METHOD:PUBLISH
X-WR-CALNAME:GSUPA
X-ORIGINAL-URL:https://www.gsupa.com
X-WR-CALDESC:Veranstaltungen für GSUPA
REFRESH-INTERVAL;VALUE=DURATION:PT1H
X-Robots-Tag:noindex
X-PUBLISHED-TTL:PT1H
BEGIN:VTIMEZONE
TZID:Europe/Berlin
BEGIN:DAYLIGHT
TZOFFSETFROM:+0100
TZOFFSETTO:+0200
TZNAME:CEST
DTSTART:20260329T010000
END:DAYLIGHT
BEGIN:STANDARD
TZOFFSETFROM:+0200
TZOFFSETTO:+0100
TZNAME:CET
DTSTART:20261025T010000
END:STANDARD
END:VTIMEZONE
BEGIN:VEVENT
DTSTART;VALUE=DATE:20260508
DTEND;VALUE=DATE:20260511
DTSTAMP:20260424T175016
CREATED:20241209T095815Z
LAST-MODIFIED:20251201T213918Z
UID:13190-1778198400-1778457599@www.gsupa.com
SUMMARY:12. XXL Paddelfestival Markkleeberg
DESCRIPTION:
URL:https://www.gsupa.com/event/xxl-paddelfestival/
LOCATION:Markkleeberg
CATEGORIES:Amateurrennen
END:VEVENT
END:VCALENDAR