BEGIN:VCALENDAR
VERSION:2.0
PRODID:-//GSUPA - ECPv6.14.2//NONSGML v1.0//EN
CALSCALE:GREGORIAN
METHOD:PUBLISH
X-ORIGINAL-URL:https://www.gsupa.com
X-WR-CALDESC:Veranstaltungen für GSUPA
REFRESH-INTERVAL;VALUE=DURATION:PT1H
X-Robots-Tag:noindex
X-PUBLISHED-TTL:PT1H
BEGIN:VTIMEZONE
TZID:Europe/Berlin
BEGIN:DAYLIGHT
TZOFFSETFROM:+0100
TZOFFSETTO:+0200
TZNAME:CEST
DTSTART:20240331T010000
END:DAYLIGHT
BEGIN:STANDARD
TZOFFSETFROM:+0200
TZOFFSETTO:+0100
TZNAME:CET
DTSTART:20241027T010000
END:STANDARD
BEGIN:DAYLIGHT
TZOFFSETFROM:+0100
TZOFFSETTO:+0200
TZNAME:CEST
DTSTART:20250330T010000
END:DAYLIGHT
BEGIN:STANDARD
TZOFFSETFROM:+0200
TZOFFSETTO:+0100
TZNAME:CET
DTSTART:20251026T010000
END:STANDARD
BEGIN:DAYLIGHT
TZOFFSETFROM:+0100
TZOFFSETTO:+0200
TZNAME:CEST
DTSTART:20260329T010000
END:DAYLIGHT
BEGIN:STANDARD
TZOFFSETFROM:+0200
TZOFFSETTO:+0100
TZNAME:CET
DTSTART:20261025T010000
END:STANDARD
END:VTIMEZONE
BEGIN:VEVENT
DTSTART;VALUE=DATE:20260418
DTEND;VALUE=DATE:20260420
DTSTAMP:20260424T163303
CREATED:20251201T221359Z
LAST-MODIFIED:20251201T221359Z
UID:13553-1776470400-1776643199@www.gsupa.com
SUMMARY:WKG IslandRace
DESCRIPTION:
URL:https://www.gsupa.com/event/wkg-islandrace/
LOCATION:Sechs-Seen-Platte Duisburg
CATEGORIES:Amateurrennen,Profirennen
END:VEVENT
BEGIN:VEVENT
DTSTART;VALUE=DATE:20250830
DTEND;VALUE=DATE:20250831
DTSTAMP:20260424T163303
CREATED:20241209T103317Z
LAST-MODIFIED:20241209T103317Z
UID:13209-1756512000-1756598399@www.gsupa.com
SUMMARY:Lions Race Essen
DESCRIPTION:
URL:https://www.gsupa.com/event/lions-race-essen/
LOCATION:Essen
CATEGORIES:Amateurrennen
END:VEVENT
BEGIN:VEVENT
DTSTART;VALUE=DATE:20250801
DTEND;VALUE=DATE:20250804
DTSTAMP:20260424T163303
CREATED:20241209T102758Z
LAST-MODIFIED:20241209T102758Z
UID:13206-1754006400-1754265599@www.gsupa.com
SUMMARY:SUP & Wingfoil Festival Fehmarn
DESCRIPTION:
URL:https://www.gsupa.com/event/sup-wingfoil-festival-fehmarn-2/
LOCATION:Fehmarn
CATEGORIES:Amateurrennen,Funrace,Profirennen
END:VEVENT
BEGIN:VEVENT
DTSTART;VALUE=DATE:20250719
DTEND;VALUE=DATE:20250720
DTSTAMP:20260424T163303
CREATED:20250424T134926Z
LAST-MODIFIED:20250424T134926Z
UID:13453-1752883200-1752969599@www.gsupa.com
SUMMARY:7TSUP-Seven Towers SUP Race
DESCRIPTION:
URL:https://www.gsupa.com/event/7tsup-seven-towers-sup-race/
LOCATION:Lübeck\, Lübeck\, Germany
CATEGORIES:Amateurrennen,Funrace,Profirennen
END:VEVENT
BEGIN:VEVENT
DTSTART;VALUE=DATE:20250523
DTEND;VALUE=DATE:20250526
DTSTAMP:20260424T163303
CREATED:20241209T100632Z
LAST-MODIFIED:20241209T100632Z
UID:13198-1747958400-1748217599@www.gsupa.com
SUMMARY:Baltic Sea Festival
DESCRIPTION:
URL:https://www.gsupa.com/event/baltic-sea-festival/
LOCATION:Eckernförde-Kiel
CATEGORIES:Amateurrennen
END:VEVENT
BEGIN:VEVENT
DTSTART;VALUE=DATE:20250510
DTEND;VALUE=DATE:20250511
DTSTAMP:20260424T163303
CREATED:20241209T100253Z
LAST-MODIFIED:20241209T100253Z
UID:13194-1746835200-1746921599@www.gsupa.com
SUMMARY:17. Main-Metropolitan-Cup
DESCRIPTION:
URL:https://www.gsupa.com/event/17-main-metropolitan-cup/
LOCATION:Frankfurt am Main
CATEGORIES:Amateurrennen
END:VEVENT
BEGIN:VEVENT
DTSTART;VALUE=DATE:20250426
DTEND;VALUE=DATE:20250427
DTSTAMP:20260424T163303
CREATED:20241209T095006Z
LAST-MODIFIED:20241209T095006Z
UID:13186-1745625600-1745711999@www.gsupa.com
SUMMARY:Bodensee-Challenge Kreuzlingen
DESCRIPTION:
URL:https://www.gsupa.com/event/bodensee-challenge-kreuzlingen/
LOCATION:Kreuzlingen
CATEGORIES:Amateurrennen
END:VEVENT
BEGIN:VEVENT
DTSTART;VALUE=DATE:20250329
DTEND;VALUE=DATE:20250330
DTSTAMP:20260424T163303
CREATED:20241209T094453Z
LAST-MODIFIED:20241209T094453Z
UID:13182-1743206400-1743292799@www.gsupa.com
SUMMARY:1. Dortmunder Frühlingscup
DESCRIPTION:
URL:https://www.gsupa.com/event/1-dortmunder-fruehlingscup/
LOCATION:Dortmund
CATEGORIES:Amateurrennen
END:VEVENT
BEGIN:VEVENT
DTSTART;VALUE=DATE:20250322
DTEND;VALUE=DATE:20250323
DTSTAMP:20260424T163303
CREATED:20241209T093453Z
LAST-MODIFIED:20241209T093453Z
UID:13178-1742601600-1742687999@www.gsupa.com
SUMMARY:Grosser Preis von Bayenburg
DESCRIPTION:
URL:https://www.gsupa.com/event/grosser-preis-von-bayenburg/
LOCATION:Bayenburg
CATEGORIES:Amateurrennen
END:VEVENT
BEGIN:VEVENT
DTSTART;VALUE=DATE:20250316
DTEND;VALUE=DATE:20250317
DTSTAMP:20260424T163303
CREATED:20241209T092821Z
LAST-MODIFIED:20241209T092821Z
UID:13174-1742083200-1742169599@www.gsupa.com
SUMMARY:BND Wintercup Mol
DESCRIPTION:
URL:https://www.gsupa.com/event/bnd-wintercup-mol/
LOCATION:Mol
CATEGORIES:Amateurrennen
END:VEVENT
BEGIN:VEVENT
DTSTART;VALUE=DATE:20250308
DTEND;VALUE=DATE:20250309
DTSTAMP:20260424T163303
CREATED:20241209T092410Z
LAST-MODIFIED:20241209T092410Z
UID:13167-1741392000-1741478399@www.gsupa.com
SUMMARY:BND Wintercup Reeuwijk
DESCRIPTION:
URL:https://www.gsupa.com/event/bnd-wintercup-reeuwijk/
LOCATION:Reeuwijk
CATEGORIES:Amateurrennen
END:VEVENT
BEGIN:VEVENT
DTSTART;VALUE=DATE:20250215
DTEND;VALUE=DATE:20250216
DTSTAMP:20260424T163303
CREATED:20241111T103129Z
LAST-MODIFIED:20241111T103129Z
UID:13112-1739577600-1739663999@www.gsupa.com
SUMMARY:SUP Wintercup Finale / Venlo
DESCRIPTION:
URL:https://www.gsupa.com/event/sup-wintercup-finale-venlo/
LOCATION:Kanovereniging Viking Venlo\, Vikingweg 1\, JZ Venlo\, 5912\, Niederlande
CATEGORIES:Amateurrennen
END:VEVENT
BEGIN:VEVENT
DTSTART;VALUE=DATE:20250126
DTEND;VALUE=DATE:20250127
DTSTAMP:20260424T163303
CREATED:20241209T091934Z
LAST-MODIFIED:20241209T091934Z
UID:13164-1737849600-1737935999@www.gsupa.com
SUMMARY:BND Wintercup Hardervijk
DESCRIPTION:
URL:https://www.gsupa.com/event/bnd-wintercup-hardervijk/
CATEGORIES:Amateurrennen
END:VEVENT
BEGIN:VEVENT
DTSTART;VALUE=DATE:20250124
DTEND;VALUE=DATE:20250126
DTSTAMP:20260424T163303
CREATED:20241111T100944Z
LAST-MODIFIED:20241111T102553Z
UID:13095-1737676800-1737849599@www.gsupa.com
SUMMARY:EuroTour boot Düsseldorf SUP Sprint Worldcup
DESCRIPTION:
URL:https://www.gsupa.com/event/eurotour-boot-duesseldorf-sup-sprint-worldcup/
LOCATION:Boot Düsseldorf
CATEGORIES:Amateurrennen,Profirennen
END:VEVENT
BEGIN:VEVENT
DTSTART;VALUE=DATE:20250118
DTEND;VALUE=DATE:20250119
DTSTAMP:20260424T163303
CREATED:20241111T102845Z
LAST-MODIFIED:20241111T102845Z
UID:13109-1737158400-1737244799@www.gsupa.com
SUMMARY:SUP Wintercup III / Essen
DESCRIPTION:
URL:https://www.gsupa.com/event/sup-wintercup-iii-essen/
LOCATION:Kanu-Regatta-Verein Baldeney e.V.\, Freiherr-vom-Stein-Str. 206c\, Essen\, 45133\, Deutschland
CATEGORIES:Amateurrennen
END:VEVENT
BEGIN:VEVENT
DTSTART;VALUE=DATE:20241207
DTEND;VALUE=DATE:20241208
DTSTAMP:20260424T163303
CREATED:20241111T102453Z
LAST-MODIFIED:20241111T102453Z
UID:13105-1733529600-1733615999@www.gsupa.com
SUMMARY:SUP Wintercup II / Rheine
DESCRIPTION:
URL:https://www.gsupa.com/event/sup-wintercup-ii-rheine/
LOCATION:Wassersportverein Rheine 1932 e.V.\, Kettelerufer 98\, Rheine\, 48431
CATEGORIES:Amateurrennen
END:VEVENT
BEGIN:VEVENT
DTSTART;VALUE=DATE:20241116
DTEND;VALUE=DATE:20241117
DTSTAMP:20260424T163303
CREATED:20241111T102118Z
LAST-MODIFIED:20241111T102524Z
UID:13101-1731715200-1731801599@www.gsupa.com
SUMMARY:SUP Wintercup I / Herdecke
DESCRIPTION:
URL:https://www.gsupa.com/event/sup-wintercup-i-herdecke/
LOCATION:Herdecker Kanu Club 1925 e. V.\, Mühlenstraße\, Herdecke\, 58313
CATEGORIES:Amateurrennen
END:VEVENT
BEGIN:VEVENT
DTSTART;VALUE=DATE:20241019
DTEND;VALUE=DATE:20241021
DTSTAMP:20260424T163303
CREATED:20240728T084210Z
LAST-MODIFIED:20240728T084210Z
UID:13018-1729296000-1729468799@www.gsupa.com
SUMMARY:Deutsche SUP Meisterschaften Flachwasser (DKV e.V.)
DESCRIPTION:
URL:https://www.gsupa.com/event/deutsche-sup-meisterschaften-flachwasser-dkv-e-v/
LOCATION:Regattastrecke Beetzsee/Brandenburg an der Havel
END:VEVENT
BEGIN:VEVENT
DTSTART;VALUE=DATE:20241003
DTEND;VALUE=DATE:20241004
DTSTAMP:20260424T163303
CREATED:20240610T080233Z
LAST-MODIFIED:20240610T080329Z
UID:12989-1727913600-1727999999@www.gsupa.com
SUMMARY:6. Maschsee SUP Cup
DESCRIPTION:
URL:https://www.gsupa.com/event/6-maschsee-sup-cup/
CATEGORIES:Amateurrennen,Funrace
END:VEVENT
BEGIN:VEVENT
DTSTART;VALUE=DATE:20240914
DTEND;VALUE=DATE:20240923
DTSTAMP:20260424T163303
CREATED:20240610T074944Z
LAST-MODIFIED:20240610T075028Z
UID:12983-1726272000-1727049599@www.gsupa.com
SUMMARY:ISA World SUP & Paddleboard Championships 2024
DESCRIPTION:
URL:https://www.gsupa.com/event/isa-world-sup-paddleboard-championships-2024/
LOCATION:Kopenhagen\, Kopenhagen
CATEGORIES:Profirennen
END:VEVENT
BEGIN:VEVENT
DTSTART;VALUE=DATE:20240914
DTEND;VALUE=DATE:20240915
DTSTAMP:20260424T163303
CREATED:20240610T075643Z
LAST-MODIFIED:20240610T080446Z
UID:12987-1726272000-1726358399@www.gsupa.com
SUMMARY:Pilsensee Bavarianwaters Supfestival
DESCRIPTION:
URL:https://www.gsupa.com/event/pilsensee-bavarianwaters-supfestival/
CATEGORIES:Amateurrennen,Profirennen
END:VEVENT
BEGIN:VEVENT
DTSTART;VALUE=DATE:20240907
DTEND;VALUE=DATE:20240916
DTSTAMP:20260424T163303
CREATED:20240610T074257Z
LAST-MODIFIED:20240610T074257Z
UID:12981-1725667200-1726444799@www.gsupa.com
SUMMARY:11-City Tour Niederlande
DESCRIPTION:
URL:https://www.gsupa.com/event/11-city-tour-niederlande/
CATEGORIES:Amateurrennen
END:VEVENT
BEGIN:VEVENT
DTSTART;VALUE=DATE:20240907
DTEND;VALUE=DATE:20240908
DTSTAMP:20260424T163303
CREATED:20240728T083220Z
LAST-MODIFIED:20240728T083220Z
UID:13014-1725667200-1725753599@www.gsupa.com
SUMMARY:26. Kehlheimer Abfahrtsrennen
DESCRIPTION:
URL:https://www.gsupa.com/event/26-kehlheimer-abfahrtsrennen/
LOCATION:Kanu Club Kelheim
END:VEVENT
BEGIN:VEVENT
DTSTART;VALUE=DATE:20240802
DTEND;VALUE=DATE:20240805
DTSTAMP:20260424T163303
CREATED:20240610T074012Z
LAST-MODIFIED:20240610T074012Z
UID:12978-1722556800-1722815999@www.gsupa.com
SUMMARY:Planet Baltic SUP Race
DESCRIPTION:
URL:https://www.gsupa.com/event/planet-baltic-sup-race/
LOCATION:Kolobrzeg\, Kolobrzeg\, Polen
CATEGORIES:Amateurrennen
END:VEVENT
BEGIN:VEVENT
DTSTART;VALUE=DATE:20240715
DTEND;VALUE=DATE:20240720
DTSTAMP:20260424T163303
CREATED:20240610T072550Z
LAST-MODIFIED:20240610T072657Z
UID:12974-1721001600-1721433599@www.gsupa.com
SUMMARY:4. Dorstener Ferien-SUP-Camp
DESCRIPTION:
URL:https://www.gsupa.com/event/4-dorstener-ferien-sup-camp/
LOCATION:SUP Mobil Trainer\, Dorsten
CATEGORIES:Camp
END:VEVENT
BEGIN:VEVENT
DTSTART;VALUE=DATE:20240711
DTEND;VALUE=DATE:20240715
DTSTAMP:20260424T163303
CREATED:20240610T071616Z
LAST-MODIFIED:20240610T071921Z
UID:12972-1720656000-1721001599@www.gsupa.com
SUMMARY:SUP & Wingfoil Festival Fehmarn
DESCRIPTION:
URL:https://www.gsupa.com/event/sup-wingfoil-festival-fehmarn/
CATEGORIES:Amateurrennen,Funrace,Profirennen
END:VEVENT
BEGIN:VEVENT
DTSTART;VALUE=DATE:20240621
DTEND;VALUE=DATE:20240624
DTSTAMP:20260424T163303
CREATED:20240610T071139Z
LAST-MODIFIED:20240610T071139Z
UID:12966-1718928000-1719187199@www.gsupa.com
SUMMARY:SUP & WingFoil Testival Achensee
DESCRIPTION:
URL:https://www.gsupa.com/event/sup-wingfoil-testival-achensee/
LOCATION:3Style Kitesurfing
CATEGORIES:KIDS CAMP,Testival
END:VEVENT
BEGIN:VEVENT
DTSTART;VALUE=DATE:20240615
DTEND;VALUE=DATE:20240617
DTSTAMP:20260424T163303
CREATED:20240610T070040Z
LAST-MODIFIED:20240610T070609Z
UID:12963-1718409600-1718582399@www.gsupa.com
SUMMARY:NRW Race Cup
DESCRIPTION:
URL:https://www.gsupa.com/event/nrw-race-cup/
CATEGORIES:Amateurrennen
END:VEVENT
END:VCALENDAR