BEGIN:VCALENDAR
VERSION:2.0
PRODID:-//GSUPA - ECPv6.14.2//NONSGML v1.0//EN
CALSCALE:GREGORIAN
METHOD:PUBLISH
X-WR-CALNAME:GSUPA
X-ORIGINAL-URL:https://www.gsupa.com
X-WR-CALDESC:Veranstaltungen für GSUPA
REFRESH-INTERVAL;VALUE=DURATION:PT1H
X-Robots-Tag:noindex
X-PUBLISHED-TTL:PT1H
BEGIN:VTIMEZONE
TZID:Europe/Berlin
BEGIN:DAYLIGHT
TZOFFSETFROM:+0100
TZOFFSETTO:+0200
TZNAME:CEST
DTSTART:20240331T010000
END:DAYLIGHT
BEGIN:STANDARD
TZOFFSETFROM:+0200
TZOFFSETTO:+0100
TZNAME:CET
DTSTART:20241027T010000
END:STANDARD
END:VTIMEZONE
BEGIN:VEVENT
DTSTART;VALUE=DATE:20240907
DTEND;VALUE=DATE:20240908
DTSTAMP:20260425T170742
CREATED:20240728T083220Z
LAST-MODIFIED:20240728T083220Z
UID:13014-1725667200-1725753599@www.gsupa.com
SUMMARY:26. Kehlheimer Abfahrtsrennen
DESCRIPTION:
URL:https://www.gsupa.com/event/26-kehlheimer-abfahrtsrennen/
LOCATION:Kanu Club Kelheim
END:VEVENT
BEGIN:VEVENT
DTSTART;VALUE=DATE:20240907
DTEND;VALUE=DATE:20240916
DTSTAMP:20260425T170742
CREATED:20240610T074257Z
LAST-MODIFIED:20240610T074257Z
UID:12981-1725667200-1726444799@www.gsupa.com
SUMMARY:11-City Tour Niederlande
DESCRIPTION:
URL:https://www.gsupa.com/event/11-city-tour-niederlande/
CATEGORIES:Amateurrennen
END:VEVENT
BEGIN:VEVENT
DTSTART;VALUE=DATE:20240914
DTEND;VALUE=DATE:20240915
DTSTAMP:20260425T170742
CREATED:20240610T075643Z
LAST-MODIFIED:20240610T080446Z
UID:12987-1726272000-1726358399@www.gsupa.com
SUMMARY:Pilsensee Bavarianwaters Supfestival
DESCRIPTION:
URL:https://www.gsupa.com/event/pilsensee-bavarianwaters-supfestival/
CATEGORIES:Amateurrennen,Profirennen
END:VEVENT
BEGIN:VEVENT
DTSTART;VALUE=DATE:20240914
DTEND;VALUE=DATE:20240923
DTSTAMP:20260425T170742
CREATED:20240610T074944Z
LAST-MODIFIED:20240610T075028Z
UID:12983-1726272000-1727049599@www.gsupa.com
SUMMARY:ISA World SUP & Paddleboard Championships 2024
DESCRIPTION:
URL:https://www.gsupa.com/event/isa-world-sup-paddleboard-championships-2024/
LOCATION:Kopenhagen\, Kopenhagen
CATEGORIES:Profirennen
END:VEVENT
END:VCALENDAR