BEGIN:VCALENDAR
VERSION:2.0
PRODID:-//GSUPA - ECPv6.14.2//NONSGML v1.0//EN
CALSCALE:GREGORIAN
METHOD:PUBLISH
X-WR-CALNAME:GSUPA
X-ORIGINAL-URL:https://www.gsupa.com
X-WR-CALDESC:Veranstaltungen für GSUPA
REFRESH-INTERVAL;VALUE=DURATION:PT1H
X-Robots-Tag:noindex
X-PUBLISHED-TTL:PT1H
BEGIN:VTIMEZONE
TZID:Europe/Berlin
BEGIN:DAYLIGHT
TZOFFSETFROM:+0100
TZOFFSETTO:+0200
TZNAME:CEST
DTSTART:20260329T010000
END:DAYLIGHT
BEGIN:STANDARD
TZOFFSETFROM:+0200
TZOFFSETTO:+0100
TZNAME:CET
DTSTART:20261025T010000
END:STANDARD
END:VTIMEZONE
BEGIN:VEVENT
DTSTART;VALUE=DATE:20260508
DTEND;VALUE=DATE:20260511
DTSTAMP:20260424T163116
CREATED:20241209T095815Z
LAST-MODIFIED:20251201T213918Z
UID:13190-1778198400-1778457599@www.gsupa.com
SUMMARY:12. XXL Paddelfestival Markkleeberg
DESCRIPTION:
URL:https://www.gsupa.com/event/xxl-paddelfestival/
LOCATION:Markkleeberg
CATEGORIES:Amateurrennen
END:VEVENT
BEGIN:VEVENT
DTSTART;TZID=Europe/Berlin:20260514T080000
DTEND;TZID=Europe/Berlin:20260517T170000
DTSTAMP:20260424T163116
CREATED:20241209T101330Z
LAST-MODIFIED:20251201T215604Z
UID:13202-1778745600-1779037200@www.gsupa.com
SUMMARY:SUP Alps Trophy / The Lake Rocks Festival Faaker See
DESCRIPTION:
URL:https://www.gsupa.com/event/sup-alps-trophy-the-lake-rocks-festival-faaker-see/
LOCATION:Faaker See
CATEGORIES:Amateurrennen,Profirennen
END:VEVENT
BEGIN:VEVENT
DTSTART;VALUE=DATE:20260522
DTEND;VALUE=DATE:20260525
DTSTAMP:20260424T163116
CREATED:20250323T121817Z
LAST-MODIFIED:20251201T213541Z
UID:13415-1779408000-1779667199@www.gsupa.com
SUMMARY:6. Sprottenrennen Eckernförde
DESCRIPTION:
URL:https://www.gsupa.com/event/5-sprottenrennen-eckernfoerde/
LOCATION:Eckernförde\, Parkanlage Borbyer Ufer\, Eckernförde\, Schleswig-Holstein
CATEGORIES:Amateurrennen,Funrace,Profirennen
END:VEVENT
BEGIN:VEVENT
DTSTART;VALUE=DATE:20260522
DTEND;VALUE=DATE:20260525
DTSTAMP:20260424T163116
CREATED:20260203T185531Z
LAST-MODIFIED:20260206T140943Z
UID:13573-1779408000-1779667199@www.gsupa.com
SUMMARY:6. SPROTTENRENNEN & DM Open Water
DESCRIPTION:22.05.2026 Funrace \n23.05.-24.05. 2026 Sprint\, Tech-Race & Longdistance
URL:https://www.gsupa.com/event/dm-open-water/
LOCATION:Hauptstrand beim Wellenbad in Eckernförde\, Schleswig-Holstein
CATEGORIES:Amateurrennen,Funrace,Profirennen
END:VEVENT
END:VCALENDAR