BEGIN:VCALENDAR
VERSION:2.0
PRODID:-//GSUPA - ECPv6.14.2//NONSGML v1.0//EN
CALSCALE:GREGORIAN
METHOD:PUBLISH
X-ORIGINAL-URL:https://www.gsupa.com
X-WR-CALDESC:Veranstaltungen für GSUPA
REFRESH-INTERVAL;VALUE=DURATION:PT1H
X-Robots-Tag:noindex
X-PUBLISHED-TTL:PT1H
BEGIN:VTIMEZONE
TZID:Europe/Berlin
BEGIN:DAYLIGHT
TZOFFSETFROM:+0100
TZOFFSETTO:+0200
TZNAME:CEST
DTSTART:20260329T010000
END:DAYLIGHT
BEGIN:STANDARD
TZOFFSETFROM:+0200
TZOFFSETTO:+0100
TZNAME:CET
DTSTART:20261025T010000
END:STANDARD
END:VTIMEZONE
BEGIN:VEVENT
DTSTART;VALUE=DATE:20260704
DTEND;VALUE=DATE:20260706
DTSTAMP:20260424T202615
CREATED:20251201T220344Z
LAST-MODIFIED:20251201T220344Z
UID:13544-1783123200-1783295999@www.gsupa.com
SUMMARY:SUP Alps Trophy / LAGO DI ALPI
DESCRIPTION:
URL:https://www.gsupa.com/event/sup-alps-trophy-lago-di-alpi/
LOCATION:Erfurt
CATEGORIES:Amateurrennen,Profirennen
END:VEVENT
END:VCALENDAR